BEGIN:VCALENDAR
VERSION:2.0
PRODID:-//Corporación Autónoma Regional del Atlántico | C.R.A - ECPv6.15.20//NONSGML v1.0//EN
CALSCALE:GREGORIAN
METHOD:PUBLISH
X-WR-CALNAME:Corporación Autónoma Regional del Atlántico | C.R.A
X-ORIGINAL-URL:https://www.crautonoma.gov.co
X-WR-CALDESC:Eventos para Corporación Autónoma Regional del Atlántico | C.R.A
REFRESH-INTERVAL;VALUE=DURATION:PT1H
X-Robots-Tag:noindex
X-PUBLISHED-TTL:PT1H
BEGIN:VTIMEZONE
TZID:America/Bogota
BEGIN:STANDARD
TZOFFSETFROM:-0500
TZOFFSETTO:-0500
TZNAME:-05
DTSTART:20250101T000000
END:STANDARD
END:VTIMEZONE
BEGIN:VEVENT
DTSTART;TZID=America/Bogota:20260421T080000
DTEND;TZID=America/Bogota:20260424T170000
DTSTAMP:20260423T042001
CREATED:20260422T181219Z
LAST-MODIFIED:20260422T181606Z
UID:72673-1776758400-1777050000@www.crautonoma.gov.co
SUMMARY:Cumbre Glocal de Economía Circular
DESCRIPTION:Museo Panótico de Ibagué
URL:https://www.crautonoma.gov.co/event/cumbre-glocal-de-economia-circular
LOCATION:Museo Panópctico de Ibagué\, Ibagué\, Colombia
END:VEVENT
END:VCALENDAR